Workbook

Sheet Índice
A3: ¿Incentivos para quién?
A4: Renuncias recaudatorias que subsidian a los más ricos
A5: Índice de cuadros y datos
A7: Núm. | B7: Hoja o pestaña | C7: Contenido | D7: Periodo | E7: Selección disponible
A8: Cuadros de consulta
A9: 1 | B9: Consulta por Herramienta | C9: Renuncias recaudatorias por herramienta fiscal, tratamiento y concepto de renuncia recaudatoria. | D9: Informes 2002-2026 | E9: Variable: monto nominal, a precios de 2026, a precios de 2018 o porcentaje del PIB
A10: 2 | B10: Consulta por Sector | C10: Renuncias recaudatorias por sector de actividad económica, tratamiento y concepto de renuncia recaudatoria. | D10: Informes 2012-2027 | E10: Variable: monto nominal, a precios de 2026, a precios de 2018 o porcentaje del PIB
A11: 3 | B11: Consulta por Decil | C11: Renuncias recaudatorias por decil de ingreso, según Herramienta fiscal, tratamiento y concepto de renuncia recaudatoria. | D11: Informes 2011-2026 | E11: Impuesto, tratamiento, concepto e indicador
A12: 4 | B12: Consulta como múltiplo del SM | C12: Personas beneficiarias del SUPE y del Subsidio para el Empleo (SUPE) por múltiplo de salario mínimo, año y sexo. | D12: Informes 2021-2026
A13: Bases de datos
A14: B1 | B14: B-PorHerramienta | C14: Base en formato largo: una fila por año y renuncia recaudatoria, con clave, herramienta fiscal, concepto, montos y porcentaje del PIB. Alimenta el cuadro 1. | D14: Informes 2002-2026
A15: B2 | B15: B-PorSector | C15: Base en formato largo: una fila por año, sector, tratamiento y concepto, con montos y porcentaje del PIB. Alimenta el cuadro 2. | D15: Informes 2012-2027
A16: B3 | B16: B-Deciles | C16: Base en formato largo: una fila por cuadro, año del informe y decil, con su valor y celda de origen. Alimenta el cuadro 3. | D16: Informes 2011-2026
A18: Nota: haga clic en el nombre de la hoja para ir a ella. Cada cuadro tiene sus notas al pie. | C18: Créditos y autoría La elaboración de la presente base de datos es resultado de un esfuerzo colectivo que comprendió la recopilación, revisión, depuración, sistematización y estructuración de la información. Este trabajo fue realizado de manera conjunta por Valentina Benítez, Emilio del Río, Jacobo Guzmán e Isaac Mendoza. Asimismo, expresamos nuestro agradecimiento a Carlos Brown, Diego Merla, Aura Martínez, Efrén Pérez de la Mora, Edgar Pérez-Medina y Soledad Rodríguez por sus valiosos comentarios, revisiones y disposición para contribuir a las distintas etapas de elaboración de esta base de datos. Cita bibliográfica sugerida Benítez, V., Del Río, E., Guzmán, J., y Mendoza, I. (2026). ¿Incentivos para quién? Renuncias recaudatorias que subsidian a los más ricos [Base de datos]. Oxfam México.
A19: No se dispone de información para 2023 en las series por herramienta fiscal.
A20: Las cifras de 2027 en el cuadro por sector son estimaciones.
A23: Elaborado por Oxfam México con datos de los
A24: Informes anuales de la SHCP
A25: Presupuesto de Gastos Fiscales (2002-2020) y Renuncias Recaudatorias (2021 en adelante)
A27: Año | B27: Documento | D27: Vínculo
A28: 2002 | B28: Presupuesto de Gastos Fiscales 2002 | D28: Descargar PDF
A29: 2003 | B29: Presupuesto de Gastos Fiscales 2003 | D29: Descargar PDF
A30: 2004 | B30: Presupuesto de Gastos Fiscales 2004 | D30: Descargar PDF
A31: 2005 | B31: Presupuesto de Gastos Fiscales 2005 | D31: Descargar PDF
A32: 2006 | B32: Presupuesto de Gastos Fiscales 2006 | D32: Descargar PDF
A33: 2007 | B33: Presupuesto de Gastos Fiscales 2007 | D33: Descargar PDF
A34: 2008 | B34: Presupuesto de Gastos Fiscales 2008 | D34: Descargar PDF
A35: 2009 | B35: Presupuesto de Gastos Fiscales 2009 | D35: Descargar PDF
A36: 2010 | B36: Presupuesto de Gastos Fiscales 2010 | D36: Descargar PDF
A37: 2011 | B37: Presupuesto de Gastos Fiscales 2011 | D37: Descargar PDF
A38: 2012 | B38: Presupuesto de Gastos Fiscales 2012 | D38: Descargar PDF
... A48: 2022 | B48: Renuncias Recaudatorias 2022 | D48: Descargar PDF
A49: 2023 | B49: Sin documento
A50: 2024 | B50: Renuncias Recaudatorias 2024 | D50: Descargar PDF
A51: 2025 | B51: Renuncias Recaudatorias 2025 | D51: Descargar PDF
A52: 2026 | B52: Renuncias Recaudatorias 2026 | D52: Descargar PDF
A54: Consulta general: Informes al Congreso de la Unión (SHCP)
A55: Fuente: Secretaría de Hacienda y Crédito Público (SHCP).

Sheet Consulta por Herramienta
A1: Renuncias recaudatorias por herramienta fiscal, tratamiento y concepto de renuncia recaudatoria | AG1: Variable | AH1: Columna | AI1: Factor | AJ1: Decimales | AK1: Unidad
A2: Serie anual 2002-2026 | AG2: Monto nominal | AH2: 1 | AI2: 1 | AJ2: 1 | AK2: Millones de pesos corrientes
A3: ="("&$AK$6&")" -> (Porcentaje del PIB) | AG3: Monto a precios de 2026 | AH3: 2 | AI3: 1 | AJ3: 1 | AK3: Millones de pesos a precios de 2026
AG4: Monto a precios de 2018 | AH4: 3 | AI4: 1 | AJ4: 1 | AK4: Millones de pesos a precios de 2018
A5: Variable: | C5: Porcentaje del PIB | AG5: Porcentaje del PIB | AH5: 4 | AI5: 100 | AJ5: 4 | AK5: Porcentaje del PIB
AG6: Seleccionada | AH6: =_xlfn.XLOOKUP($C$5,$AG$2:$AG$5,AH$2:AH$5) -> 4 | AI6: =_xlfn.XLOOKUP($C$5,$AG$2:$AG$5,AI$2:AI$5) -> 100 | AJ6: =_xlfn.XLOOKUP($C$5,$AG$2:$AG$5,AJ$2:AJ$5) -> 4 | AK6: =_xlfn.XLOOKUP($C$5,$AG$2:$AG$5,AK$2:AK$5) -> Porcentaje del PIB
A8: Herramienta fiscal / tratamiento / concepto | B8: Clave | C8: 2002 | D8: 2003 | E8: 2004 | F8: 2005 | G8: 2006 | H8: 2007 | I8: 2008 | J8: 2009 | K8: 2010 | L8: 2011 | M8: 2012 | N8: 2013 | O8: 2014 | P8: 2015 | Q8: 2016 | R8: 2017 | S8: 2018 | T8: 2019 | U8: 2020 | V8: 2021 | W8: 2022 | X8: 2024 | Y8: 2025 | Z8: 2026 | AB8: Nivel | AC8: Clave herramienta | AD8: Clave concepto | AE8: Clave renuncia
A9: Total | C9: =IF(COUNTIFS('B-PorHerramienta'!$A$2:$A$2848,C$8,'B-PorHerramienta'!$J$2:$J$2848,$AC9,'B-PorHerramienta'!$K$2:$K$2848,$AD9,'B-PorHerramienta'!$L$2:$L$2848,$AE9,'B-PorHerramienta'!$F$2:$F$2848,"<>")=0,"",ROUND(SUMIFS(INDEX('B-PorHerramienta'!$F$2:$I$2848,0,$AH$6),'B-PorHerramienta'!$A$2:$A$2848,C$8,'B-PorHerramienta'!$J$2:$J$2848,$AC9,'B-PorHerramienta'!$K$2:$K$2848,$AD9,'B-PorHerramienta'!$L$2:$L$2848,$AE9)*$AI$6,$AJ$6)) -> 4.2087 | D9: =IF(COUNTIFS('B-PorHerramienta'!$A$2:$A$2848,D$8,'B-PorHerramienta'!$J$2:$J$2848,$AC9,'B-PorHerramienta'!$K$2:$K$2848,$AD9,'B-PorHerramienta'!$L$2:$L$2848,$AE9,'B-PorHerramienta'!$F$2:$F$2848,"<>")=0,"",ROUND(SUMIFS(INDEX('B-PorHerramienta'!$F$2:$I$2848,0,$AH$6),'B-PorHerramienta'!$A$2:$A$2848,D$8,'B-PorHerramienta'!$J$2:$J$2848,$AC9,'B-PorHerramienta'!$K$2:$K$2848,$AD9,'B-PorHerramienta'!$L$2:$L$2848,$AE9)*$AI$6,$AJ$6)) -> 5.0529 | E9: =IF(COUNTIFS('B-PorHerramienta'!$A$2:$A$2848,E$8,'B-PorHerramienta'!$J$2:$J$2848,$AC9,'B-PorHerramienta'!$K$2:$K$2848,$AD9,'B-PorHerramienta'!$L$2:$L$2848,$AE9,'B-PorHerramienta'!$F$2:$F$2848,"<>")=0,"",ROUND(SUMIFS(INDEX('B-PorHerramienta'!$F$2:$I$2848,0,$AH$6),'B-PorHerramienta'!$A$2:$A$2848,E$8,'B-PorHerramienta'!$J$2:$J$2848,$AC9,'B-PorHerramienta'!$K$2:$K$2848,$AD9,'B-PorHerramienta'!$L$2:$L$2848,$AE9)*$AI$6,$AJ$6)) -> 4.4023 | F9: =IF(COUNTIFS('B-PorHerramienta'!$A$2:$A$2848,F$8,'B-PorHerramienta'!$J$2:$J$2848,$AC9,'B-PorHerramienta'!$K$2:$K$2848,$AD9,'B-PorHerramienta'!$L$2:$L$2848,$AE9,'B-PorHerramienta'!$F$2:$F$2848,"<>")=0,"",ROUND(SUMIFS(INDEX('B-PorHerramienta'!$F$2:$I$2848,0,$AH$6),'B-PorHerramienta'!$A$2:$A$2848,F$8,'B-PorHerramienta'!$J$2:$J$2848,$AC9,'B-PorHerramienta'!$K$2:$K$2848,$AD9,'B-PorHerramienta'!$L$2:$L$2848,$AE9)*$AI$6,$AJ$6)) -> 5.2889 | G9: =IF(COUNTIFS('B-PorHerramienta'!$A$2:$A$2848,G$8,'B-PorHerramienta'!$J$2:$J$2848,$AC9,'B-PorHerramienta'!$K$2:$K$2848,$AD9,'B-PorHerramienta'!$L$2:$L$2848,$AE9,'B-PorHerramienta'!$F$2:$F$2848,"<>")=0,"",ROUND(SUMIFS(INDEX('B-PorHerramienta'!$F$2:$I$2848,0,$AH$6),'B-PorHerramienta'!$A$2:$A$2848,G$8,'B-PorHerramienta'!$J$2:$J$2848,$AC9,'B-PorHerramienta'!$K$2:$K$2848,$AD9,'B-PorHerramienta'!$L$2:$L$2848,$AE9)*$AI$6,$AJ$6)) -> 4.5164 | H9: =IF(COUNTIFS('B-PorHerramienta'!$A$2:$A$2848,H$8,'B-PorHerramienta'!$J$2:$J$2848,$AC9,'B-PorHerramienta'!$K$2:$K$2848,$AD9,'B-PorHerramienta'!$L$2:$L$2848,$AE9,'B-PorHerramienta'!$F$2:$F$2848,"<>")=0,"",ROUND(SUMIFS(INDEX('B-PorHerramienta'!$F$2:$I$2848,0,$AH$6),'B-PorHerramienta'!$A$2:$A$2848,H$8,'B-PorHerramienta'!$J$2:$J$2848,$AC9,'B-PorHerramienta'!$K$2:$K$2848,$AD9,'B-PorHerramienta'!$L$2:$L$2848,$AE9)*$AI$6,$AJ$6)) -> 4.8239 | I9: =IF(COUNTIFS('B-PorHerramienta'!$A$2:$A$2848,I$8,'B-PorHerramienta'!$J$2:$J$2848,$AC9,'B-PorHerramienta'!$K$2:$K$2848,$AD9,'B-PorHerramienta'!$L$2:$L$2848,$AE9,'B-PorHerramienta'!$F$2:$F$2848,"<>")=0,"",ROUND(SUMIFS(INDEX('B-PorHerramienta'!$F$2:$I$2848,0,$AH$6),'B-PorHerramienta'!$A$2:$A$2848,I$8,'B-PorHerramienta'!$J$2:$J$2848,$AC9,'B-PorHerramienta'!$K$2:$K$2848,$AD9,'B-PorHerramienta'!$L$2:$L$2848,$AE9)*$AI$6,$AJ$6)) -> 5.9745 | J9: =IF(COUNTIFS('B-PorHerramienta'!$A$2:$A$2848,J$8,'B-PorHerramienta'!$J$2:$J$2848,$AC9,'B-PorHerramienta'!$K$2:$K$2848,$AD9,'B-PorHerramienta'!$L$2:$L$2848,$AE9,'B-PorHerramienta'!$F$2:$F$2848,"<>")=0,"",ROUND(SUMIFS(INDEX('B-PorHerramienta'!$F$2:$I$2848,0,$AH$6),'B-PorHerramienta'!$A$2:$A$2848,J$8,'B-PorHerramienta'!$J$2:$J$2848,$AC9,'B-PorHerramienta'!$K$2:$K$2848,$AD9,'B-PorHerramienta'!$L$2:$L$2848,$AE9)*$AI$6,$AJ$6)) -> 3.6466 | ... Z9: =IF(COUNTIFS('B-PorHerramienta'!$A$2:$A$2848,Z$8,'B-PorHerramienta'!$J$2:$J$2848,$AC9,'B-PorHerramienta'!$K$2:$K$2848,$AD9,'B-PorHerramienta'!$L$2:$L$2848,$AE9,'B-PorHerramienta'!$F$2:$F$2848,"<>")=0,"",ROUND(SUMIFS(INDEX('B-PorHerramienta'!$F$2:$I$2848,0,$AH$6),'B-PorHerramienta'!$A$2:$A$2848,Z$8,'B-PorHerramienta'!$J$2:$J$2848,$AC9,'B-PorHerramienta'!$K$2:$K$2848,$AD9,'B-PorHerramienta'!$L$2:$L$2848,$AE9)*$AI$6,$AJ$6)) -> 3.1183 | AB9: T | AC9: * | AD9: * | AE9: *
A10: Estímulos fiscales | C10: =IF(COUNTIFS('B-PorHerramienta'!$A$2:$A$2848,C$8,'B-PorHerramienta'!$J$2:$J$2848,$AC10,'B-PorHerramienta'!$K$2:$K$2848,$AD10,'B-PorHerramienta'!$L$2:$L$2848,$AE10,'B-PorHerramienta'!$F$2:$F$2848,"<>")=0,"",ROUND(SUMIFS(INDEX('B-PorHerramienta'!$F$2:$I$2848,0,$AH$6),'B-PorHerramienta'!$A$2:$A$2848,C$8,'B-PorHerramienta'!$J$2:$J$2848,$AC10,'B-PorHerramienta'!$K$2:$K$2848,$AD10,'B-PorHerramienta'!$L$2:$L$2848,$AE10)*$AI$6,$AJ$6)) -> 0.0249 | D10: =IF(COUNTIFS('B-PorHerramienta'!$A$2:$A$2848,D$8,'B-PorHerramienta'!$J$2:$J$2848,$AC10,'B-PorHerramienta'!$K$2:$K$2848,$AD10,'B-PorHerramienta'!$L$2:$L$2848,$AE10,'B-PorHerramienta'!$F$2:$F$2848,"<>")=0,"",ROUND(SUMIFS(INDEX('B-PorHerramienta'!$F$2:$I$2848,0,$AH$6),'B-PorHerramienta'!$A$2:$A$2848,D$8,'B-PorHerramienta'!$J$2:$J$2848,$AC10,'B-PorHerramienta'!$K$2:$K$2848,$AD10,'B-PorHerramienta'!$L$2:$L$2848,$AE10)*$AI$6,$AJ$6)) -> 0.2936 | E10: =IF(COUNTIFS('B-PorHerramienta'!$A$2:$A$2848,E$8,'B-PorHerramienta'!$J$2:$J$2848,$AC10,'B-PorHerramienta'!$K$2:$K$2848,$AD10,'B-PorHerramienta'!$L$2:$L$2848,$AE10,'B-PorHerramienta'!$F$2:$F$2848,"<>")=0,"",ROUND(SUMIFS(INDEX('B-PorHerramienta'!$F$2:$I$2848,0,$AH$6),'B-PorHerramienta'!$A$2:$A$2848,E$8,'B-PorHerramienta'!$J$2:$J$2848,$AC10,'B-PorHerramienta'!$K$2:$K$2848,$AD10,'B-PorHerramienta'!$L$2:$L$2848,$AE10)*$AI$6,$AJ$6)) -> 0.154 | F10: =IF(COUNTIFS('B-PorHerramienta'!$A$2:$A$2848,F$8,'B-PorHerramienta'!$J$2:$J$2848,$AC10,'B-PorHerramienta'!$K$2:$K$2848,$AD10,'B-PorHerramienta'!$L$2:$L$2848,$AE10,'B-PorHerramienta'!$F$2:$F$2848,"<>")=0,"",ROUND(SUMIFS(INDEX('B-PorHerramienta'!$F$2:$I$2848,0,$AH$6),'B-PorHerramienta'!$A$2:$A$2848,F$8,'B-PorHerramienta'!$J$2:$J$2848,$AC10,'B-PorHerramienta'!$K$2:$K$2848,$AD10,'B-PorHerramienta'!$L$2:$L$2848,$AE10)*$AI$6,$AJ$6)) -> 0.1896 | G10: =IF(COUNTIFS('B-PorHerramienta'!$A$2:$A$2848,G$8,'B-PorHerramienta'!$J$2:$J$2848,$AC10,'B-PorHerramienta'!$K$2:$K$2848,$AD10,'B-PorHerramienta'!$L$2:$L$2848,$AE10,'B-PorHerramienta'!$F$2:$F$2848,"<>")=0,"",ROUND(SUMIFS(INDEX('B-PorHerramienta'!$F$2:$I$2848,0,$AH$6),'B-PorHerramienta'!$A$2:$A$2848,G$8,'B-PorHerramienta'!$J$2:$J$2848,$AC10,'B-PorHerramienta'!$K$2:$K$2848,$AD10,'B-PorHerramienta'!$L$2:$L$2848,$AE10)*$AI$6,$AJ$6)) -> 0.1344 | H10: =IF(COUNTIFS('B-PorHerramienta'!$A$2:$A$2848,H$8,'B-PorHerramienta'!$J$2:$J$2848,$AC10,'B-PorHerramienta'!$K$2:$K$2848,$AD10,'B-PorHerramienta'!$L$2:$L$2848,$AE10,'B-PorHerramienta'!$F$2:$F$2848,"<>")=0,"",ROUND(SUMIFS(INDEX('B-PorHerramienta'!$F$2:$I$2848,0,$AH$6),'B-PorHerramienta'!$A$2:$A$2848,H$8,'B-PorHerramienta'!$J$2:$J$2848,$AC10,'B-PorHerramienta'!$K$2:$K$2848,$AD10,'B-PorHerramienta'!$L$2:$L$2848,$AE10)*$AI$6,$AJ$6)) -> 0.2207 | I10: =IF(COUNTIFS('B-PorHerramienta'!$A$2:$A$2848,I$8,'B-PorHerramienta'!$J$2:$J$2848,$AC10,'B-PorHerramienta'!$K$2:$K$2848,$AD10,'B-PorHerramienta'!$L$2:$L$2848,$AE10,'B-PorHerramienta'!$F$2:$F$2848,"<>")=0,"",ROUND(SUMIFS(INDEX('B-PorHerramienta'!$F$2:$I$2848,0,$AH$6),'B-PorHerramienta'!$A$2:$A$2848,I$8,'B-PorHerramienta'!$J$2:$J$2848,$AC10,'B-PorHerramienta'!$K$2:$K$2848,$AD10,'B-PorHerramienta'!$L$2:$L$2848,$AE10)*$AI$6,$AJ$6)) -> 0.1071 | J10: =IF(COUNTIFS('B-PorHerramienta'!$A$2:$A$2848,J$8,'B-PorHerramienta'!$J$2:$J$2848,$AC10,'B-PorHerramienta'!$K$2:$K$2848,$AD10,'B-PorHerramienta'!$L$2:$L$2848,$AE10,'B-PorHerramienta'!$F$2:$F$2848,"<>")=0,"",ROUND(SUMIFS(INDEX('B-PorHerramienta'!$F$2:$I$2848,0,$AH$6),'B-PorHerramienta'!$A$2:$A$2848,J$8,'B-PorHerramienta'!$J$2:$J$2848,$AC10,'B-PorHerramienta'!$K$2:$K$2848,$AD10,'B-PorHerramienta'!$L$2:$L$2848,$AE10)*$AI$6,$AJ$6)) -> 0.0759 | ... Z10: =IF(COUNTIFS('B-PorHerramienta'!$A$2:$A$2848,Z$8,'B-PorHerramienta'!$J$2:$J$2848,$AC10,'B-PorHerramienta'!$K$2:$K$2848,$AD10,'B-PorHerramienta'!$L$2:$L$2848,$AE10,'B-PorHerramienta'!$F$2:$F$2848,"<>")=0,"",ROUND(SUMIFS(INDEX('B-PorHerramienta'!$F$2:$I$2848,0,$AH$6),'B-PorHerramienta'!$A$2:$A$2848,Z$8,'B-PorHerramienta'!$J$2:$J$2848,$AC10,'B-PorHerramienta'!$K$2:$K$2848,$AD10,'B-PorHerramienta'!$L$2:$L$2848,$AE10)*$AI$6,$AJ$6)) -> 0.7461 | AB10: 0 | AC10: Estímulos fiscales | AD10: * | AE10: *
A11: Decretos presidenciales | C11: =IF(COUNTIFS('B-PorHerramienta'!$A$2:$A$2848,C$8,'B-PorHerramienta'!$J$2:$J$2848,$AC11,'B-PorHerramienta'!$K$2:$K$2848,$AD11,'B-PorHerramienta'!$L$2:$L$2848,$AE11,'B-PorHerramienta'!$F$2:$F$2848,"<>")=0,"",ROUND(SUMIFS(INDEX('B-PorHerramienta'!$F$2:$I$2848,0,$AH$6),'B-PorHerramienta'!$A$2:$A$2848,C$8,'B-PorHerramienta'!$J$2:$J$2848,$AC11,'B-PorHerramienta'!$K$2:$K$2848,$AD11,'B-PorHerramienta'!$L$2:$L$2848,$AE11)*$AI$6,$AJ$6)) | D11: =IF(COUNTIFS('B-PorHerramienta'!$A$2:$A$2848,D$8,'B-PorHerramienta'!$J$2:$J$2848,$AC11,'B-PorHerramienta'!$K$2:$K$2848,$AD11,'B-PorHerramienta'!$L$2:$L$2848,$AE11,'B-PorHerramienta'!$F$2:$F$2848,"<>")=0,"",ROUND(SUMIFS(INDEX('B-PorHerramienta'!$F$2:$I$2848,0,$AH$6),'B-PorHerramienta'!$A$2:$A$2848,D$8,'B-PorHerramienta'!$J$2:$J$2848,$AC11,'B-PorHerramienta'!$K$2:$K$2848,$AD11,'B-PorHerramienta'!$L$2:$L$2848,$AE11)*$AI$6,$AJ$6)) | E11: =IF(COUNTIFS('B-PorHerramienta'!$A$2:$A$2848,E$8,'B-PorHerramienta'!$J$2:$J$2848,$AC11,'B-PorHerramienta'!$K$2:$K$2848,$AD11,'B-PorHerramienta'!$L$2:$L$2848,$AE11,'B-PorHerramienta'!$F$2:$F$2848,"<>")=0,"",ROUND(SUMIFS(INDEX('B-PorHerramienta'!$F$2:$I$2848,0,$AH$6),'B-PorHerramienta'!$A$2:$A$2848,E$8,'B-PorHerramienta'!$J$2:$J$2848,$AC11,'B-PorHerramienta'!$K$2:$K$2848,$AD11,'B-PorHerramienta'!$L$2:$L$2848,$AE11)*$AI$6,$AJ$6)) | F11: =IF(COUNTIFS('B-PorHerramienta'!$A$2:$A$2848,F$8,'B-PorHerramienta'!$J$2:$J$2848,$AC11,'B-PorHerramienta'!$K$2:$K$2848,$AD11,'B-PorHerramienta'!$L$2:$L$2848,$AE11,'B-PorHerramienta'!$F$2:$F$2848,"<>")=0,"",ROUND(SUMIFS(INDEX('B-PorHerramienta'!$F$2:$I$2848,0,$AH$6),'B-PorHerramienta'!$A$2:$A$2848,F$8,'B-PorHerramienta'!$J$2:$J$2848,$AC11,'B-PorHerramienta'!$K$2:$K$2848,$AD11,'B-PorHerramienta'!$L$2:$L$2848,$AE11)*$AI$6,$AJ$6)) | G11: =IF(COUNTIFS('B-PorHerramienta'!$A$2:$A$2848,G$8,'B-PorHerramienta'!$J$2:$J$2848,$AC11,'B-PorHerramienta'!$K$2:$K$2848,$AD11,'B-PorHerramienta'!$L$2:$L$2848,$AE11,'B-PorHerramienta'!$F$2:$F$2848,"<>")=0,"",ROUND(SUMIFS(INDEX('B-PorHerramienta'!$F$2:$I$2848,0,$AH$6),'B-PorHerramienta'!$A$2:$A$2848,G$8,'B-PorHerramienta'!$J$2:$J$2848,$AC11,'B-PorHerramienta'!$K$2:$K$2848,$AD11,'B-PorHerramienta'!$L$2:$L$2848,$AE11)*$AI$6,$AJ$6)) | H11: =IF(COUNTIFS('B-PorHerramienta'!$A$2:$A$2848,H$8,'B-PorHerramienta'!$J$2:$J$2848,$AC11,'B-PorHerramienta'!$K$2:$K$2848,$AD11,'B-PorHerramienta'!$L$2:$L$2848,$AE11,'B-PorHerramienta'!$F$2:$F$2848,"<>")=0,"",ROUND(SUMIFS(INDEX('B-PorHerramienta'!$F$2:$I$2848,0,$AH$6),'B-PorHerramienta'!$A$2:$A$2848,H$8,'B-PorHerramienta'!$J$2:$J$2848,$AC11,'B-PorHerramienta'!$K$2:$K$2848,$AD11,'B-PorHerramienta'!$L$2:$L$2848,$AE11)*$AI$6,$AJ$6)) | I11: =IF(COUNTIFS('B-PorHerramienta'!$A$2:$A$2848,I$8,'B-PorHerramienta'!$J$2:$J$2848,$AC11,'B-PorHerramienta'!$K$2:$K$2848,$AD11,'B-PorHerramienta'!$L$2:$L$2848,$AE11,'B-PorHerramienta'!$F$2:$F$2848,"<>")=0,"",ROUND(SUMIFS(INDEX('B-PorHerramienta'!$F$2:$I$2848,0,$AH$6),'B-PorHerramienta'!$A$2:$A$2848,I$8,'B-PorHerramienta'!$J$2:$J$2848,$AC11,'B-PorHerramienta'!$K$2:$K$2848,$AD11,'B-PorHerramienta'!$L$2:$L$2848,$AE11)*$AI$6,$AJ$6)) | J11: =IF(COUNTIFS('B-PorHerramienta'!$A$2:$A$2848,J$8,'B-PorHerramienta'!$J$2:$J$2848,$AC11,'B-PorHerramienta'!$K$2:$K$2848,$AD11,'B-PorHerramienta'!$L$2:$L$2848,$AE11,'B-PorHerramienta'!$F$2:$F$2848,"<>")=0,"",ROUND(SUMIFS(INDEX('B-PorHerramienta'!$F$2:$I$2848,0,$AH$6),'B-PorHerramienta'!$A$2:$A$2848,J$8,'B-PorHerramienta'!$J$2:$J$2848,$AC11,'B-PorHerramienta'!$K$2:$K$2848,$AD11,'B-PorHerramienta'!$L$2:$L$2848,$AE11)*$AI$6,$AJ$6)) | ... Z11: =IF(COUNTIFS('B-PorHerramienta'!$A$2:$A$2848,Z$8,'B-PorHerramienta'!$J$2:$J$2848,$AC11,'B-PorHerramienta'!$K$2:$K$2848,$AD11,'B-PorHerramienta'!$L$2:$L$2848,$AE11,'B-PorHerramienta'!$F$2:$F$2848,"<>")=0,"",ROUND(SUMIFS(INDEX('B-PorHerramienta'!$F$2:$I$2848,0,$AH$6),'B-PorHerramienta'!$A$2:$A$2848,Z$8,'B-PorHerramienta'!$J$2:$J$2848,$AC11,'B-PorHerramienta'!$K$2:$K$2848,$AD11,'B-PorHerramienta'!$L$2:$L$2848,$AE11)*$AI$6,$AJ$6)) -> 0.3501 | AB11: 1 | AC11: Estímulos fiscales | AD11: Decretos presidenciales | AE11: *
A12: Estímulos Fiscales en Materia del IEPS Aplicables a los Combustibles Automotrices: a los Contribuyentes que Importen y Enajenen Gasolinas, Diésel y Combustibles No Fósiles, Consistente en una Cantidad Equivalente al Porcentaje de las Cuotas de Dichos Combombustibles Aplicable Contra Dichas Cuotas | B12: EF.DP.1.A | C12: =IF(COUNTIFS('B-PorHerramienta'!$A$2:$A$2848,C$8,'B-PorHerramienta'!$J$2:$J$2848,$AC12,'B-PorHerramienta'!$K$2:$K$2848,$AD12,'B-PorHerramienta'!$L$2:$L$2848,$AE12,'B-PorHerramienta'!$F$2:$F$2848,"<>")=0,"",ROUND(SUMIFS(INDEX('B-PorHerramienta'!$F$2:$I$2848,0,$AH$6),'B-PorHerramienta'!$A$2:$A$2848,C$8,'B-PorHerramienta'!$J$2:$J$2848,$AC12,'B-PorHerramienta'!$K$2:$K$2848,$AD12,'B-PorHerramienta'!$L$2:$L$2848,$AE12)*$AI$6,$AJ$6)) | D12: =IF(COUNTIFS('B-PorHerramienta'!$A$2:$A$2848,D$8,'B-PorHerramienta'!$J$2:$J$2848,$AC12,'B-PorHerramienta'!$K$2:$K$2848,$AD12,'B-PorHerramienta'!$L$2:$L$2848,$AE12,'B-PorHerramienta'!$F$2:$F$2848,"<>")=0,"",ROUND(SUMIFS(INDEX('B-PorHerramienta'!$F$2:$I$2848,0,$AH$6),'B-PorHerramienta'!$A$2:$A$2848,D$8,'B-PorHerramienta'!$J$2:$J$2848,$AC12,'B-PorHerramienta'!$K$2:$K$2848,$AD12,'B-PorHerramienta'!$L$2:$L$2848,$AE12)*$AI$6,$AJ$6)) | E12: =IF(COUNTIFS('B-PorHerramienta'!$A$2:$A$2848,E$8,'B-PorHerramienta'!$J$2:$J$2848,$AC12,'B-PorHerramienta'!$K$2:$K$2848,$AD12,'B-PorHerramienta'!$L$2:$L$2848,$AE12,'B-PorHerramienta'!$F$2:$F$2848,"<>")=0,"",ROUND(SUMIFS(INDEX('B-PorHerramienta'!$F$2:$I$2848,0,$AH$6),'B-PorHerramienta'!$A$2:$A$2848,E$8,'B-PorHerramienta'!$J$2:$J$2848,$AC12,'B-PorHerramienta'!$K$2:$K$2848,$AD12,'B-PorHerramienta'!$L$2:$L$2848,$AE12)*$AI$6,$AJ$6)) | F12: =IF(COUNTIFS('B-PorHerramienta'!$A$2:$A$2848,F$8,'B-PorHerramienta'!$J$2:$J$2848,$AC12,'B-PorHerramienta'!$K$2:$K$2848,$AD12,'B-PorHerramienta'!$L$2:$L$2848,$AE12,'B-PorHerramienta'!$F$2:$F$2848,"<>")=0,"",ROUND(SUMIFS(INDEX('B-PorHerramienta'!$F$2:$I$2848,0,$AH$6),'B-PorHerramienta'!$A$2:$A$2848,F$8,'B-PorHerramienta'!$J$2:$J$2848,$AC12,'B-PorHerramienta'!$K$2:$K$2848,$AD12,'B-PorHerramienta'!$L$2:$L$2848,$AE12)*$AI$6,$AJ$6)) | G12: =IF(COUNTIFS('B-PorHerramienta'!$A$2:$A$2848,G$8,'B-PorHerramienta'!$J$2:$J$2848,$AC12,'B-PorHerramienta'!$K$2:$K$2848,$AD12,'B-PorHerramienta'!$L$2:$L$2848,$AE12,'B-PorHerramienta'!$F$2:$F$2848,"<>")=0,"",ROUND(SUMIFS(INDEX('B-PorHerramienta'!$F$2:$I$2848,0,$AH$6),'B-PorHerramienta'!$A$2:$A$2848,G$8,'B-PorHerramienta'!$J$2:$J$2848,$AC12,'B-PorHerramienta'!$K$2:$K$2848,$AD12,'B-PorHerramienta'!$L$2:$L$2848,$AE12)*$AI$6,$AJ$6)) | H12: =IF(COUNTIFS('B-PorHerramienta'!$A$2:$A$2848,H$8,'B-PorHerramienta'!$J$2:$J$2848,$AC12,'B-PorHerramienta'!$K$2:$K$2848,$AD12,'B-PorHerramienta'!$L$2:$L$2848,$AE12,'B-PorHerramienta'!$F$2:$F$2848,"<>")=0,"",ROUND(SUMIFS(INDEX('B-PorHerramienta'!$F$2:$I$2848,0,$AH$6),'B-PorHerramienta'!$A$2:$A$2848,H$8,'B-PorHerramienta'!$J$2:$J$2848,$AC12,'B-PorHerramienta'!$K$2:$K$2848,$AD12,'B-PorHerramienta'!$L$2:$L$2848,$AE12)*$AI$6,$AJ$6)) | I12: =IF(COUNTIFS('B-PorHerramienta'!$A$2:$A$2848,I$8,'B-PorHerramienta'!$J$2:$J$2848,$AC12,'B-PorHerramienta'!$K$2:$K$2848,$AD12,'B-PorHerramienta'!$L$2:$L$2848,$AE12,'B-PorHerramienta'!$F$2:$F$2848,"<>")=0,"",ROUND(SUMIFS(INDEX('B-PorHerramienta'!$F$2:$I$2848,0,$AH$6),'B-PorHerramienta'!$A$2:$A$2848,I$8,'B-PorHerramienta'!$J$2:$J$2848,$AC12,'B-PorHerramienta'!$K$2:$K$2848,$AD12,'B-PorHerramienta'!$L$2:$L$2848,$AE12)*$AI$6,$AJ$6)) | J12: =IF(COUNTIFS('B-PorHerramienta'!$A$2:$A$2848,J$8,'B-PorHerramienta'!$J$2:$J$2848,$AC12,'B-PorHerramienta'!$K$2:$K$2848,$AD12,'B-PorHerramienta'!$L$2:$L$2848,$AE12,'B-PorHerramienta'!$F$2:$F$2848,"<>")=0,"",ROUND(SUMIFS(INDEX('B-PorHerramienta'!$F$2:$I$2848,0,$AH$6),'B-PorHerramienta'!$A$2:$A$2848,J$8,'B-PorHerramienta'!$J$2:$J$2848,$AC12,'B-PorHerramienta'!$K$2:$K$2848,$AD12,'B-PorHerramienta'!$L$2:$L$2848,$AE12)*$AI$6,$AJ$6)) | ... Z12: =IF(COUNTIFS('B-PorHerramienta'!$A$2:$A$2848,Z$8,'B-PorHerramienta'!$J$2:$J$2848,$AC12,'B-PorHerramienta'!$K$2:$K$2848,$AD12,'B-PorHerramienta'!$L$2:$L$2848,$AE12,'B-PorHerramienta'!$F$2:$F$2848,"<>")=0,"",ROUND(SUMIFS(INDEX('B-PorHerramienta'!$F$2:$I$2848,0,$AH$6),'B-PorHerramienta'!$A$2:$A$2848,Z$8,'B-PorHerramienta'!$J$2:$J$2848,$AC12,'B-PorHerramienta'!$K$2:$K$2848,$AD12,'B-PorHerramienta'!$L$2:$L$2848,$AE12)*$AI$6,$AJ$6)) -> 0.0355 | AB12: 2 | AC12: Estímulos fiscales | AD12: Decretos presidenciales | AE12: R0423
A13: Estímulos Fiscales en Materia del IEPS Aplicables a los Combustibles Automotrices: a los Contribuyentes que Enajenen las Gasolinas en la Franja Fronteriza de 20 Kilómetros Paralela a la Línea Divisoria Internacional con los EUA Dentro de las Zonas Geográficas que se Establecen en el Artículo Cuarto del Decreto, Consistente en una Cantidad por Litro de Gasolina Enajenada Aplicada en Cada una de las Zonas Mencionadas | B13: EF.DP.1.B | C13: =IF(COUNTIFS('B-PorHerramienta'!$A$2:$A$2848,C$8,'B-PorHerramienta'!$J$2:$J$2848,$AC13,'B-PorHerramienta'!$K$2:$K$2848,$AD13,'B-PorHerramienta'!$L$2:$L$2848,$AE13,'B-PorHerramienta'!$F$2:$F$2848,"<>")=0,"",ROUND(SUMIFS(INDEX('B-PorHerramienta'!$F$2:$I$2848,0,$AH$6),'B-PorHerramienta'!$A$2:$A$2848,C$8,'B-PorHerramienta'!$J$2:$J$2848,$AC13,'B-PorHerramienta'!$K$2:$K$2848,$AD13,'B-PorHerramienta'!$L$2:$L$2848,$AE13)*$AI$6,$AJ$6)) | D13: =IF(COUNTIFS('B-PorHerramienta'!$A$2:$A$2848,D$8,'B-PorHerramienta'!$J$2:$J$2848,$AC13,'B-PorHerramienta'!$K$2:$K$2848,$AD13,'B-PorHerramienta'!$L$2:$L$2848,$AE13,'B-PorHerramienta'!$F$2:$F$2848,"<>")=0,"",ROUND(SUMIFS(INDEX('B-PorHerramienta'!$F$2:$I$2848,0,$AH$6),'B-PorHerramienta'!$A$2:$A$2848,D$8,'B-PorHerramienta'!$J$2:$J$2848,$AC13,'B-PorHerramienta'!$K$2:$K$2848,$AD13,'B-PorHerramienta'!$L$2:$L$2848,$AE13)*$AI$6,$AJ$6)) | E13: =IF(COUNTIFS('B-PorHerramienta'!$A$2:$A$2848,E$8,'B-PorHerramienta'!$J$2:$J$2848,$AC13,'B-PorHerramienta'!$K$2:$K$2848,$AD13,'B-PorHerramienta'!$L$2:$L$2848,$AE13,'B-PorHerramienta'!$F$2:$F$2848,"<>")=0,"",ROUND(SUMIFS(INDEX('B-PorHerramienta'!$F$2:$I$2848,0,$AH$6),'B-PorHerramienta'!$A$2:$A$2848,E$8,'B-PorHerramienta'!$J$2:$J$2848,$AC13,'B-PorHerramienta'!$K$2:$K$2848,$AD13,'B-PorHerramienta'!$L$2:$L$2848,$AE13)*$AI$6,$AJ$6)) | F13: =IF(COUNTIFS('B-PorHerramienta'!$A$2:$A$2848,F$8,'B-PorHerramienta'!$J$2:$J$2848,$AC13,'B-PorHerramienta'!$K$2:$K$2848,$AD13,'B-PorHerramienta'!$L$2:$L$2848,$AE13,'B-PorHerramienta'!$F$2:$F$2848,"<>")=0,"",ROUND(SUMIFS(INDEX('B-PorHerramienta'!$F$2:$I$2848,0,$AH$6),'B-PorHerramienta'!$A$2:$A$2848,F$8,'B-PorHerramienta'!$J$2:$J$2848,$AC13,'B-PorHerramienta'!$K$2:$K$2848,$AD13,'B-PorHerramienta'!$L$2:$L$2848,$AE13)*$AI$6,$AJ$6)) | G13: =IF(COUNTIFS('B-PorHerramienta'!$A$2:$A$2848,G$8,'B-PorHerramienta'!$J$2:$J$2848,$AC13,'B-PorHerramienta'!$K$2:$K$2848,$AD13,'B-PorHerramienta'!$L$2:$L$2848,$AE13,'B-PorHerramienta'!$F$2:$F$2848,"<>")=0,"",ROUND(SUMIFS(INDEX('B-PorHerramienta'!$F$2:$I$2848,0,$AH$6),'B-PorHerramienta'!$A$2:$A$2848,G$8,'B-PorHerramienta'!$J$2:$J$2848,$AC13,'B-PorHerramienta'!$K$2:$K$2848,$AD13,'B-PorHerramienta'!$L$2:$L$2848,$AE13)*$AI$6,$AJ$6)) | H13: =IF(COUNTIFS('B-PorHerramienta'!$A$2:$A$2848,H$8,'B-PorHerramienta'!$J$2:$J$2848,$AC13,'B-PorHerramienta'!$K$2:$K$2848,$AD13,'B-PorHerramienta'!$L$2:$L$2848,$AE13,'B-PorHerramienta'!$F$2:$F$2848,"<>")=0,"",ROUND(SUMIFS(INDEX('B-PorHerramienta'!$F$2:$I$2848,0,$AH$6),'B-PorHerramienta'!$A$2:$A$2848,H$8,'B-PorHerramienta'!$J$2:$J$2848,$AC13,'B-PorHerramienta'!$K$2:$K$2848,$AD13,'B-PorHerramienta'!$L$2:$L$2848,$AE13)*$AI$6,$AJ$6)) | I13: =IF(COUNTIFS('B-PorHerramienta'!$A$2:$A$2848,I$8,'B-PorHerramienta'!$J$2:$J$2848,$AC13,'B-PorHerramienta'!$K$2:$K$2848,$AD13,'B-PorHerramienta'!$L$2:$L$2848,$AE13,'B-PorHerramienta'!$F$2:$F$2848,"<>")=0,"",ROUND(SUMIFS(INDEX('B-PorHerramienta'!$F$2:$I$2848,0,$AH$6),'B-PorHerramienta'!$A$2:$A$2848,I$8,'B-PorHerramienta'!$J$2:$J$2848,$AC13,'B-PorHerramienta'!$K$2:$K$2848,$AD13,'B-PorHerramienta'!$L$2:$L$2848,$AE13)*$AI$6,$AJ$6)) | J13: =IF(COUNTIFS('B-PorHerramienta'!$A$2:$A$2848,J$8,'B-PorHerramienta'!$J$2:$J$2848,$AC13,'B-PorHerramienta'!$K$2:$K$2848,$AD13,'B-PorHerramienta'!$L$2:$L$2848,$AE13,'B-PorHerramienta'!$F$2:$F$2848,"<>")=0,"",ROUND(SUMIFS(INDEX('B-PorHerramienta'!$F$2:$I$2848,0,$AH$6),'B-PorHerramienta'!$A$2:$A$2848,J$8,'B-PorHerramienta'!$J$2:$J$2848,$AC13,'B-PorHerramienta'!$K$2:$K$2848,$AD13,'B-PorHerramienta'!$L$2:$L$2848,$AE13)*$AI$6,$AJ$6)) | ... Z13: =IF(COUNTIFS('B-PorHerramienta'!$A$2:$A$2848,Z$8,'B-PorHerramienta'!$J$2:$J$2848,$AC13,'B-PorHerramienta'!$K$2:$K$2848,$AD13,'B-PorHerramienta'!$L$2:$L$2848,$AE13,'B-PorHerramienta'!$F$2:$F$2848,"<>")=0,"",ROUND(SUMIFS(INDEX('B-PorHerramienta'!$F$2:$I$2848,0,$AH$6),'B-PorHerramienta'!$A$2:$A$2848,Z$8,'B-PorHerramienta'!$J$2:$J$2848,$AC13,'B-PorHerramienta'!$K$2:$K$2848,$AD13,'B-PorHerramienta'!$L$2:$L$2848,$AE13)*$AI$6,$AJ$6)) -> 0.0176 | AB13: 2 | AC13: Estímulos fiscales | AD13: Decretos presidenciales | AE13: R0424
A14: Estímulos Fiscales en Materia del IEPS Aplicables a los Combustibles Automotrices: a las Gasolinas que se Enajenen en las Zonas Geográficas que se Establecen en el Artículo Cuarto del Decreto, Dentro del Territorio Comprendido entre las Líneas Paralelas de más de 20 y hasta 45 Kilómetros a la Línea Divisoria Internacional con los EUA | B14: EF.DP.1.C | C14: =IF(COUNTIFS('B-PorHerramienta'!$A$2:$A$2848,C$8,'B-PorHerramienta'!$J$2:$J$2848,$AC14,'B-PorHerramienta'!$K$2:$K$2848,$AD14,'B-PorHerramienta'!$L$2:$L$2848,$AE14,'B-PorHerramienta'!$F$2:$F$2848,"<>")=0,"",ROUND(SUMIFS(INDEX('B-PorHerramienta'!$F$2:$I$2848,0,$AH$6),'B-PorHerramienta'!$A$2:$A$2848,C$8,'B-PorHerramienta'!$J$2:$J$2848,$AC14,'B-PorHerramienta'!$K$2:$K$2848,$AD14,'B-PorHerramienta'!$L$2:$L$2848,$AE14)*$AI$6,$AJ$6)) | D14: =IF(COUNTIFS('B-PorHerramienta'!$A$2:$A$2848,D$8,'B-PorHerramienta'!$J$2:$J$2848,$AC14,'B-PorHerramienta'!$K$2:$K$2848,$AD14,'B-PorHerramienta'!$L$2:$L$2848,$AE14,'B-PorHerramienta'!$F$2:$F$2848,"<>")=0,"",ROUND(SUMIFS(INDEX('B-PorHerramienta'!$F$2:$I$2848,0,$AH$6),'B-PorHerramienta'!$A$2:$A$2848,D$8,'B-PorHerramienta'!$J$2:$J$2848,$AC14,'B-PorHerramienta'!$K$2:$K$2848,$AD14,'B-PorHerramienta'!$L$2:$L$2848,$AE14)*$AI$6,$AJ$6)) | E14: =IF(COUNTIFS('B-PorHerramienta'!$A$2:$A$2848,E$8,'B-PorHerramienta'!$J$2:$J$2848,$AC14,'B-PorHerramienta'!$K$2:$K$2848,$AD14,'B-PorHerramienta'!$L$2:$L$2848,$AE14,'B-PorHerramienta'!$F$2:$F$2848,"<>")=0,"",ROUND(SUMIFS(INDEX('B-PorHerramienta'!$F$2:$I$2848,0,$AH$6),'B-PorHerramienta'!$A$2:$A$2848,E$8,'B-PorHerramienta'!$J$2:$J$2848,$AC14,'B-PorHerramienta'!$K$2:$K$2848,$AD14,'B-PorHerramienta'!$L$2:$L$2848,$AE14)*$AI$6,$AJ$6)) | F14: =IF(COUNTIFS('B-PorHerramienta'!$A$2:$A$2848,F$8,'B-PorHerramienta'!$J$2:$J$2848,$AC14,'B-PorHerramienta'!$K$2:$K$2848,$AD14,'B-PorHerramienta'!$L$2:$L$2848,$AE14,'B-PorHerramienta'!$F$2:$F$2848,"<>")=0,"",ROUND(SUMIFS(INDEX('B-PorHerramienta'!$F$2:$I$2848,0,$AH$6),'B-PorHerramienta'!$A$2:$A$2848,F$8,'B-PorHerramienta'!$J$2:$J$2848,$AC14,'B-PorHerramienta'!$K$2:$K$2848,$AD14,'B-PorHerramienta'!$L$2:$L$2848,$AE14)*$AI$6,$AJ$6)) | G14: =IF(COUNTIFS('B-PorHerramienta'!$A$2:$A$2848,G$8,'B-PorHerramienta'!$J$2:$J$2848,$AC14,'B-PorHerramienta'!$K$2:$K$2848,$AD14,'B-PorHerramienta'!$L$2:$L$2848,$AE14,'B-PorHerramienta'!$F$2:$F$2848,"<>")=0,"",ROUND(SUMIFS(INDEX('B-PorHerramienta'!$F$2:$I$2848,0,$AH$6),'B-PorHerramienta'!$A$2:$A$2848,G$8,'B-PorHerramienta'!$J$2:$J$2848,$AC14,'B-PorHerramienta'!$K$2:$K$2848,$AD14,'B-PorHerramienta'!$L$2:$L$2848,$AE14)*$AI$6,$AJ$6)) | H14: =IF(COUNTIFS('B-PorHerramienta'!$A$2:$A$2848,H$8,'B-PorHerramienta'!$J$2:$J$2848,$AC14,'B-PorHerramienta'!$K$2:$K$2848,$AD14,'B-PorHerramienta'!$L$2:$L$2848,$AE14,'B-PorHerramienta'!$F$2:$F$2848,"<>")=0,"",ROUND(SUMIFS(INDEX('B-PorHerramienta'!$F$2:$I$2848,0,$AH$6),'B-PorHerramienta'!$A$2:$A$2848,H$8,'B-PorHerramienta'!$J$2:$J$2848,$AC14,'B-PorHerramienta'!$K$2:$K$2848,$AD14,'B-PorHerramienta'!$L$2:$L$2848,$AE14)*$AI$6,$AJ$6)) | I14: =IF(COUNTIFS('B-PorHerramienta'!$A$2:$A$2848,I$8,'B-PorHerramienta'!$J$2:$J$2848,$AC14,'B-PorHerramienta'!$K$2:$K$2848,$AD14,'B-PorHerramienta'!$L$2:$L$2848,$AE14,'B-PorHerramienta'!$F$2:$F$2848,"<>")=0,"",ROUND(SUMIFS(INDEX('B-PorHerramienta'!$F$2:$I$2848,0,$AH$6),'B-PorHerramienta'!$A$2:$A$2848,I$8,'B-PorHerramienta'!$J$2:$J$2848,$AC14,'B-PorHerramienta'!$K$2:$K$2848,$AD14,'B-PorHerramienta'!$L$2:$L$2848,$AE14)*$AI$6,$AJ$6)) | J14: =IF(COUNTIFS('B-PorHerramienta'!$A$2:$A$2848,J$8,'B-PorHerramienta'!$J$2:$J$2848,$AC14,'B-PorHerramienta'!$K$2:$K$2848,$AD14,'B-PorHerramienta'!$L$2:$L$2848,$AE14,'B-PorHerramienta'!$F$2:$F$2848,"<>")=0,"",ROUND(SUMIFS(INDEX('B-PorHerramienta'!$F$2:$I$2848,0,$AH$6),'B-PorHerramienta'!$A$2:$A$2848,J$8,'B-PorHerramienta'!$J$2:$J$2848,$AC14,'B-PorHerramienta'!$K$2:$K$2848,$AD14,'B-PorHerramienta'!$L$2:$L$2848,$AE14)*$AI$6,$AJ$6)) | ... Z14: =IF(COUNTIFS('B-PorHerramienta'!$A$2:$A$2848,Z$8,'B-PorHerramienta'!$J$2:$J$2848,$AC14,'B-PorHerramienta'!$K$2:$K$2848,$AD14,'B-PorHerramienta'!$L$2:$L$2848,$AE14,'B-PorHerramienta'!$F$2:$F$2848,"<>")=0,"",ROUND(SUMIFS(INDEX('B-PorHerramienta'!$F$2:$I$2848,0,$AH$6),'B-PorHerramienta'!$A$2:$A$2848,Z$8,'B-PorHerramienta'!$J$2:$J$2848,$AC14,'B-PorHerramienta'!$K$2:$K$2848,$AD14,'B-PorHerramienta'!$L$2:$L$2848,$AE14)*$AI$6,$AJ$6)) -> 0.0004 | AB14: 2 | AC14: Estímulos fiscales | AD14: Decretos presidenciales | AE14: R0425
A15: Estímulo Fiscal a los Contribuyentes Dedicados a Actividades Agrícolas, Ganaderas, Pesqueras y Silvícolas y Agroindustriales Establecidos en los Estados de Chiapas, Guerrero y Oaxaca, Consistente en una Deducción Adicional del 25% sobre el Monto de las Inversiones que se Realicen en Bienes Nuevos de Activo Fijo | B15: EF.DP.10, 95, 102 | C15: =IF(COUNTIFS('B-PorHerramienta'!$A$2:$A$2848,C$8,'B-PorHerramienta'!$J$2:$J$2848,$AC15,'B-PorHerramienta'!$K$2:$K$2848,$AD15,'B-PorHerramienta'!$L$2:$L$2848,$AE15,'B-PorHerramienta'!$F$2:$F$2848,"<>")=0,"",ROUND(SUMIFS(INDEX('B-PorHerramienta'!$F$2:$I$2848,0,$AH$6),'B-PorHerramienta'!$A$2:$A$2848,C$8,'B-PorHerramienta'!$J$2:$J$2848,$AC15,'B-PorHerramienta'!$K$2:$K$2848,$AD15,'B-PorHerramienta'!$L$2:$L$2848,$AE15)*$AI$6,$AJ$6)) | D15: =IF(COUNTIFS('B-PorHerramienta'!$A$2:$A$2848,D$8,'B-PorHerramienta'!$J$2:$J$2848,$AC15,'B-PorHerramienta'!$K$2:$K$2848,$AD15,'B-PorHerramienta'!$L$2:$L$2848,$AE15,'B-PorHerramienta'!$F$2:$F$2848,"<>")=0,"",ROUND(SUMIFS(INDEX('B-PorHerramienta'!$F$2:$I$2848,0,$AH$6),'B-PorHerramienta'!$A$2:$A$2848,D$8,'B-PorHerramienta'!$J$2:$J$2848,$AC15,'B-PorHerramienta'!$K$2:$K$2848,$AD15,'B-PorHerramienta'!$L$2:$L$2848,$AE15)*$AI$6,$AJ$6)) | E15: =IF(COUNTIFS('B-PorHerramienta'!$A$2:$A$2848,E$8,'B-PorHerramienta'!$J$2:$J$2848,$AC15,'B-PorHerramienta'!$K$2:$K$2848,$AD15,'B-PorHerramienta'!$L$2:$L$2848,$AE15,'B-PorHerramienta'!$F$2:$F$2848,"<>")=0,"",ROUND(SUMIFS(INDEX('B-PorHerramienta'!$F$2:$I$2848,0,$AH$6),'B-PorHerramienta'!$A$2:$A$2848,E$8,'B-PorHerramienta'!$J$2:$J$2848,$AC15,'B-PorHerramienta'!$K$2:$K$2848,$AD15,'B-PorHerramienta'!$L$2:$L$2848,$AE15)*$AI$6,$AJ$6)) | F15: =IF(COUNTIFS('B-PorHerramienta'!$A$2:$A$2848,F$8,'B-PorHerramienta'!$J$2:$J$2848,$AC15,'B-PorHerramienta'!$K$2:$K$2848,$AD15,'B-PorHerramienta'!$L$2:$L$2848,$AE15,'B-PorHerramienta'!$F$2:$F$2848,"<>")=0,"",ROUND(SUMIFS(INDEX('B-PorHerramienta'!$F$2:$I$2848,0,$AH$6),'B-PorHerramienta'!$A$2:$A$2848,F$8,'B-PorHerramienta'!$J$2:$J$2848,$AC15,'B-PorHerramienta'!$K$2:$K$2848,$AD15,'B-PorHerramienta'!$L$2:$L$2848,$AE15)*$AI$6,$AJ$6)) | G15: =IF(COUNTIFS('B-PorHerramienta'!$A$2:$A$2848,G$8,'B-PorHerramienta'!$J$2:$J$2848,$AC15,'B-PorHerramienta'!$K$2:$K$2848,$AD15,'B-PorHerramienta'!$L$2:$L$2848,$AE15,'B-PorHerramienta'!$F$2:$F$2848,"<>")=0,"",ROUND(SUMIFS(INDEX('B-PorHerramienta'!$F$2:$I$2848,0,$AH$6),'B-PorHerramienta'!$A$2:$A$2848,G$8,'B-PorHerramienta'!$J$2:$J$2848,$AC15,'B-PorHerramienta'!$K$2:$K$2848,$AD15,'B-PorHerramienta'!$L$2:$L$2848,$AE15)*$AI$6,$AJ$6)) | H15: =IF(COUNTIFS('B-PorHerramienta'!$A$2:$A$2848,H$8,'B-PorHerramienta'!$J$2:$J$2848,$AC15,'B-PorHerramienta'!$K$2:$K$2848,$AD15,'B-PorHerramienta'!$L$2:$L$2848,$AE15,'B-PorHerramienta'!$F$2:$F$2848,"<>")=0,"",ROUND(SUMIFS(INDEX('B-PorHerramienta'!$F$2:$I$2848,0,$AH$6),'B-PorHerramienta'!$A$2:$A$2848,H$8,'B-PorHerramienta'!$J$2:$J$2848,$AC15,'B-PorHerramienta'!$K$2:$K$2848,$AD15,'B-PorHerramienta'!$L$2:$L$2848,$AE15)*$AI$6,$AJ$6)) | I15: =IF(COUNTIFS('B-PorHerramienta'!$A$2:$A$2848,I$8,'B-PorHerramienta'!$J$2:$J$2848,$AC15,'B-PorHerramienta'!$K$2:$K$2848,$AD15,'B-PorHerramienta'!$L$2:$L$2848,$AE15,'B-PorHerramienta'!$F$2:$F$2848,"<>")=0,"",ROUND(SUMIFS(INDEX('B-PorHerramienta'!$F$2:$I$2848,0,$AH$6),'B-PorHerramienta'!$A$2:$A$2848,I$8,'B-PorHerramienta'!$J$2:$J$2848,$AC15,'B-PorHerramienta'!$K$2:$K$2848,$AD15,'B-PorHerramienta'!$L$2:$L$2848,$AE15)*$AI$6,$AJ$6)) | J15: =IF(COUNTIFS('B-PorHerramienta'!$A$2:$A$2848,J$8,'B-PorHerramienta'!$J$2:$J$2848,$AC15,'B-PorHerramienta'!$K$2:$K$2848,$AD15,'B-PorHerramienta'!$L$2:$L$2848,$AE15,'B-PorHerramienta'!$F$2:$F$2848,"<>")=0,"",ROUND(SUMIFS(INDEX('B-PorHerramienta'!$F$2:$I$2848,0,$AH$6),'B-PorHerramienta'!$A$2:$A$2848,J$8,'B-PorHerramienta'!$J$2:$J$2848,$AC15,'B-PorHerramienta'!$K$2:$K$2848,$AD15,'B-PorHerramienta'!$L$2:$L$2848,$AE15)*$AI$6,$AJ$6)) | ... Z15: =IF(COUNTIFS('B-PorHerramienta'!$A$2:$A$2848,Z$8,'B-PorHerramienta'!$J$2:$J$2848,$AC15,'B-PorHerramienta'!$K$2:$K$2848,$AD15,'B-PorHerramienta'!$L$2:$L$2848,$AE15,'B-PorHerramienta'!$F$2:$F$2848,"<>")=0,"",ROUND(SUMIFS(INDEX('B-PorHerramienta'!$F$2:$I$2848,0,$AH$6),'B-PorHerramienta'!$A$2:$A$2848,Z$8,'B-PorHerramienta'!$J$2:$J$2848,$AC15,'B-PorHerramienta'!$K$2:$K$2848,$AD15,'B-PorHerramienta'!$L$2:$L$2848,$AE15)*$AI$6,$AJ$6)) | AB15: 2 | AC15: Estímulos fiscales | AD15: Decretos presidenciales | AE15: R0426
A16: Crédito Fiscal a los Contribuyentes Personas Morales y Fideicomisos Autorizados para Recibir Donativos Deducibles Equivalente al Monto del ISR que se Cause por la Obtención de Ingresos por Actividades Distintas a los Fines Autorizados, que Excedan del Límite del 10% | B16: EF.DP.11, 103 | C16: =IF(COUNTIFS('B-PorHerramienta'!$A$2:$A$2848,C$8,'B-PorHerramienta'!$J$2:$J$2848,$AC16,'B-PorHerramienta'!$K$2:$K$2848,$AD16,'B-PorHerramienta'!$L$2:$L$2848,$AE16,'B-PorHerramienta'!$F$2:$F$2848,"<>")=0,"",ROUND(SUMIFS(INDEX('B-PorHerramienta'!$F$2:$I$2848,0,$AH$6),'B-PorHerramienta'!$A$2:$A$2848,C$8,'B-PorHerramienta'!$J$2:$J$2848,$AC16,'B-PorHerramienta'!$K$2:$K$2848,$AD16,'B-PorHerramienta'!$L$2:$L$2848,$AE16)*$AI$6,$AJ$6)) | D16: =IF(COUNTIFS('B-PorHerramienta'!$A$2:$A$2848,D$8,'B-PorHerramienta'!$J$2:$J$2848,$AC16,'B-PorHerramienta'!$K$2:$K$2848,$AD16,'B-PorHerramienta'!$L$2:$L$2848,$AE16,'B-PorHerramienta'!$F$2:$F$2848,"<>")=0,"",ROUND(SUMIFS(INDEX('B-PorHerramienta'!$F$2:$I$2848,0,$AH$6),'B-PorHerramienta'!$A$2:$A$2848,D$8,'B-PorHerramienta'!$J$2:$J$2848,$AC16,'B-PorHerramienta'!$K$2:$K$2848,$AD16,'B-PorHerramienta'!$L$2:$L$2848,$AE16)*$AI$6,$AJ$6)) | E16: =IF(COUNTIFS('B-PorHerramienta'!$A$2:$A$2848,E$8,'B-PorHerramienta'!$J$2:$J$2848,$AC16,'B-PorHerramienta'!$K$2:$K$2848,$AD16,'B-PorHerramienta'!$L$2:$L$2848,$AE16,'B-PorHerramienta'!$F$2:$F$2848,"<>")=0,"",ROUND(SUMIFS(INDEX('B-PorHerramienta'!$F$2:$I$2848,0,$AH$6),'B-PorHerramienta'!$A$2:$A$2848,E$8,'B-PorHerramienta'!$J$2:$J$2848,$AC16,'B-PorHerramienta'!$K$2:$K$2848,$AD16,'B-PorHerramienta'!$L$2:$L$2848,$AE16)*$AI$6,$AJ$6)) | F16: =IF(COUNTIFS('B-PorHerramienta'!$A$2:$A$2848,F$8,'B-PorHerramienta'!$J$2:$J$2848,$AC16,'B-PorHerramienta'!$K$2:$K$2848,$AD16,'B-PorHerramienta'!$L$2:$L$2848,$AE16,'B-PorHerramienta'!$F$2:$F$2848,"<>")=0,"",ROUND(SUMIFS(INDEX('B-PorHerramienta'!$F$2:$I$2848,0,$AH$6),'B-PorHerramienta'!$A$2:$A$2848,F$8,'B-PorHerramienta'!$J$2:$J$2848,$AC16,'B-PorHerramienta'!$K$2:$K$2848,$AD16,'B-PorHerramienta'!$L$2:$L$2848,$AE16)*$AI$6,$AJ$6)) | G16: =IF(COUNTIFS('B-PorHerramienta'!$A$2:$A$2848,G$8,'B-PorHerramienta'!$J$2:$J$2848,$AC16,'B-PorHerramienta'!$K$2:$K$2848,$AD16,'B-PorHerramienta'!$L$2:$L$2848,$AE16,'B-PorHerramienta'!$F$2:$F$2848,"<>")=0,"",ROUND(SUMIFS(INDEX('B-PorHerramienta'!$F$2:$I$2848,0,$AH$6),'B-PorHerramienta'!$A$2:$A$2848,G$8,'B-PorHerramienta'!$J$2:$J$2848,$AC16,'B-PorHerramienta'!$K$2:$K$2848,$AD16,'B-PorHerramienta'!$L$2:$L$2848,$AE16)*$AI$6,$AJ$6)) | H16: =IF(COUNTIFS('B-PorHerramienta'!$A$2:$A$2848,H$8,'B-PorHerramienta'!$J$2:$J$2848,$AC16,'B-PorHerramienta'!$K$2:$K$2848,$AD16,'B-PorHerramienta'!$L$2:$L$2848,$AE16,'B-PorHerramienta'!$F$2:$F$2848,"<>")=0,"",ROUND(SUMIFS(INDEX('B-PorHerramienta'!$F$2:$I$2848,0,$AH$6),'B-PorHerramienta'!$A$2:$A$2848,H$8,'B-PorHerramienta'!$J$2:$J$2848,$AC16,'B-PorHerramienta'!$K$2:$K$2848,$AD16,'B-PorHerramienta'!$L$2:$L$2848,$AE16)*$AI$6,$AJ$6)) | I16: =IF(COUNTIFS('B-PorHerramienta'!$A$2:$A$2848,I$8,'B-PorHerramienta'!$J$2:$J$2848,$AC16,'B-PorHerramienta'!$K$2:$K$2848,$AD16,'B-PorHerramienta'!$L$2:$L$2848,$AE16,'B-PorHerramienta'!$F$2:$F$2848,"<>")=0,"",ROUND(SUMIFS(INDEX('B-PorHerramienta'!$F$2:$I$2848,0,$AH$6),'B-PorHerramienta'!$A$2:$A$2848,I$8,'B-PorHerramienta'!$J$2:$J$2848,$AC16,'B-PorHerramienta'!$K$2:$K$2848,$AD16,'B-PorHerramienta'!$L$2:$L$2848,$AE16)*$AI$6,$AJ$6)) | J16: =IF(COUNTIFS('B-PorHerramienta'!$A$2:$A$2848,J$8,'B-PorHerramienta'!$J$2:$J$2848,$AC16,'B-PorHerramienta'!$K$2:$K$2848,$AD16,'B-PorHerramienta'!$L$2:$L$2848,$AE16,'B-PorHerramienta'!$F$2:$F$2848,"<>")=0,"",ROUND(SUMIFS(INDEX('B-PorHerramienta'!$F$2:$I$2848,0,$AH$6),'B-PorHerramienta'!$A$2:$A$2848,J$8,'B-PorHerramienta'!$J$2:$J$2848,$AC16,'B-PorHerramienta'!$K$2:$K$2848,$AD16,'B-PorHerramienta'!$L$2:$L$2848,$AE16)*$AI$6,$AJ$6)) | ... Z16: =IF(COUNTIFS('B-PorHerramienta'!$A$2:$A$2848,Z$8,'B-PorHerramienta'!$J$2:$J$2848,$AC16,'B-PorHerramienta'!$K$2:$K$2848,$AD16,'B-PorHerramienta'!$L$2:$L$2848,$AE16,'B-PorHerramienta'!$F$2:$F$2848,"<>")=0,"",ROUND(SUMIFS(INDEX('B-PorHerramienta'!$F$2:$I$2848,0,$AH$6),'B-PorHerramienta'!$A$2:$A$2848,Z$8,'B-PorHerramienta'!$J$2:$J$2848,$AC16,'B-PorHerramienta'!$K$2:$K$2848,$AD16,'B-PorHerramienta'!$L$2:$L$2848,$AE16)*$AI$6,$AJ$6)) | AB16: 2 | AC16: Estímulos fiscales | AD16: Decretos presidenciales | AE16: R0427
A17: Estímulo Fiscal a los Contribuyentes Afectados por el Sismo del 7 de Septiembre de 2017 en los Municipios Señalados en los Estados de Oaxaca y Chiapas, Consistente en la Deducción Inmediata al 100% de las Inversiones en Bienes Nuevos de Activo Fijo | B17: EF.DP.12 | C17: =IF(COUNTIFS('B-PorHerramienta'!$A$2:$A$2848,C$8,'B-PorHerramienta'!$J$2:$J$2848,$AC17,'B-PorHerramienta'!$K$2:$K$2848,$AD17,'B-PorHerramienta'!$L$2:$L$2848,$AE17,'B-PorHerramienta'!$F$2:$F$2848,"<>")=0,"",ROUND(SUMIFS(INDEX('B-PorHerramienta'!$F$2:$I$2848,0,$AH$6),'B-PorHerramienta'!$A$2:$A$2848,C$8,'B-PorHerramienta'!$J$2:$J$2848,$AC17,'B-PorHerramienta'!$K$2:$K$2848,$AD17,'B-PorHerramienta'!$L$2:$L$2848,$AE17)*$AI$6,$AJ$6)) | D17: =IF(COUNTIFS('B-PorHerramienta'!$A$2:$A$2848,D$8,'B-PorHerramienta'!$J$2:$J$2848,$AC17,'B-PorHerramienta'!$K$2:$K$2848,$AD17,'B-PorHerramienta'!$L$2:$L$2848,$AE17,'B-PorHerramienta'!$F$2:$F$2848,"<>")=0,"",ROUND(SUMIFS(INDEX('B-PorHerramienta'!$F$2:$I$2848,0,$AH$6),'B-PorHerramienta'!$A$2:$A$2848,D$8,'B-PorHerramienta'!$J$2:$J$2848,$AC17,'B-PorHerramienta'!$K$2:$K$2848,$AD17,'B-PorHerramienta'!$L$2:$L$2848,$AE17)*$AI$6,$AJ$6)) | E17: =IF(COUNTIFS('B-PorHerramienta'!$A$2:$A$2848,E$8,'B-PorHerramienta'!$J$2:$J$2848,$AC17,'B-PorHerramienta'!$K$2:$K$2848,$AD17,'B-PorHerramienta'!$L$2:$L$2848,$AE17,'B-PorHerramienta'!$F$2:$F$2848,"<>")=0,"",ROUND(SUMIFS(INDEX('B-PorHerramienta'!$F$2:$I$2848,0,$AH$6),'B-PorHerramienta'!$A$2:$A$2848,E$8,'B-PorHerramienta'!$J$2:$J$2848,$AC17,'B-PorHerramienta'!$K$2:$K$2848,$AD17,'B-PorHerramienta'!$L$2:$L$2848,$AE17)*$AI$6,$AJ$6)) | F17: =IF(COUNTIFS('B-PorHerramienta'!$A$2:$A$2848,F$8,'B-PorHerramienta'!$J$2:$J$2848,$AC17,'B-PorHerramienta'!$K$2:$K$2848,$AD17,'B-PorHerramienta'!$L$2:$L$2848,$AE17,'B-PorHerramienta'!$F$2:$F$2848,"<>")=0,"",ROUND(SUMIFS(INDEX('B-PorHerramienta'!$F$2:$I$2848,0,$AH$6),'B-PorHerramienta'!$A$2:$A$2848,F$8,'B-PorHerramienta'!$J$2:$J$2848,$AC17,'B-PorHerramienta'!$K$2:$K$2848,$AD17,'B-PorHerramienta'!$L$2:$L$2848,$AE17)*$AI$6,$AJ$6)) | G17: =IF(COUNTIFS('B-PorHerramienta'!$A$2:$A$2848,G$8,'B-PorHerramienta'!$J$2:$J$2848,$AC17,'B-PorHerramienta'!$K$2:$K$2848,$AD17,'B-PorHerramienta'!$L$2:$L$2848,$AE17,'B-PorHerramienta'!$F$2:$F$2848,"<>")=0,"",ROUND(SUMIFS(INDEX('B-PorHerramienta'!$F$2:$I$2848,0,$AH$6),'B-PorHerramienta'!$A$2:$A$2848,G$8,'B-PorHerramienta'!$J$2:$J$2848,$AC17,'B-PorHerramienta'!$K$2:$K$2848,$AD17,'B-PorHerramienta'!$L$2:$L$2848,$AE17)*$AI$6,$AJ$6)) | H17: =IF(COUNTIFS('B-PorHerramienta'!$A$2:$A$2848,H$8,'B-PorHerramienta'!$J$2:$J$2848,$AC17,'B-PorHerramienta'!$K$2:$K$2848,$AD17,'B-PorHerramienta'!$L$2:$L$2848,$AE17,'B-PorHerramienta'!$F$2:$F$2848,"<>")=0,"",ROUND(SUMIFS(INDEX('B-PorHerramienta'!$F$2:$I$2848,0,$AH$6),'B-PorHerramienta'!$A$2:$A$2848,H$8,'B-PorHerramienta'!$J$2:$J$2848,$AC17,'B-PorHerramienta'!$K$2:$K$2848,$AD17,'B-PorHerramienta'!$L$2:$L$2848,$AE17)*$AI$6,$AJ$6)) | I17: =IF(COUNTIFS('B-PorHerramienta'!$A$2:$A$2848,I$8,'B-PorHerramienta'!$J$2:$J$2848,$AC17,'B-PorHerramienta'!$K$2:$K$2848,$AD17,'B-PorHerramienta'!$L$2:$L$2848,$AE17,'B-PorHerramienta'!$F$2:$F$2848,"<>")=0,"",ROUND(SUMIFS(INDEX('B-PorHerramienta'!$F$2:$I$2848,0,$AH$6),'B-PorHerramienta'!$A$2:$A$2848,I$8,'B-PorHerramienta'!$J$2:$J$2848,$AC17,'B-PorHerramienta'!$K$2:$K$2848,$AD17,'B-PorHerramienta'!$L$2:$L$2848,$AE17)*$AI$6,$AJ$6)) | J17: =IF(COUNTIFS('B-PorHerramienta'!$A$2:$A$2848,J$8,'B-PorHerramienta'!$J$2:$J$2848,$AC17,'B-PorHerramienta'!$K$2:$K$2848,$AD17,'B-PorHerramienta'!$L$2:$L$2848,$AE17,'B-PorHerramienta'!$F$2:$F$2848,"<>")=0,"",ROUND(SUMIFS(INDEX('B-PorHerramienta'!$F$2:$I$2848,0,$AH$6),'B-PorHerramienta'!$A$2:$A$2848,J$8,'B-PorHerramienta'!$J$2:$J$2848,$AC17,'B-PorHerramienta'!$K$2:$K$2848,$AD17,'B-PorHerramienta'!$L$2:$L$2848,$AE17)*$AI$6,$AJ$6)) | ... Z17: =IF(COUNTIFS('B-PorHerramienta'!$A$2:$A$2848,Z$8,'B-PorHerramienta'!$J$2:$J$2848,$AC17,'B-PorHerramienta'!$K$2:$K$2848,$AD17,'B-PorHerramienta'!$L$2:$L$2848,$AE17,'B-PorHerramienta'!$F$2:$F$2848,"<>")=0,"",ROUND(SUMIFS(INDEX('B-PorHerramienta'!$F$2:$I$2848,0,$AH$6),'B-PorHerramienta'!$A$2:$A$2848,Z$8,'B-PorHerramienta'!$J$2:$J$2848,$AC17,'B-PorHerramienta'!$K$2:$K$2848,$AD17,'B-PorHerramienta'!$L$2:$L$2848,$AE17)*$AI$6,$AJ$6)) | AB17: 2 | AC17: Estímulos fiscales | AD17: Decretos presidenciales | AE17: R0428
A18: Estímulo Fiscal a los Contribuyentes Afectados por el Sismo del 19 de Septiembre de 2017 en los Municipios Señalados en los Estados de México, Morelos, Oaxaca, Puebla y Tlaxcala, Consistente en la Deducción Inmediata al 100% de las Inversiones en Bienes Nuevos de Activo Fijo | B18: EF.DP.13 | C18: =IF(COUNTIFS('B-PorHerramienta'!$A$2:$A$2848,C$8,'B-PorHerramienta'!$J$2:$J$2848,$AC18,'B-PorHerramienta'!$K$2:$K$2848,$AD18,'B-PorHerramienta'!$L$2:$L$2848,$AE18,'B-PorHerramienta'!$F$2:$F$2848,"<>")=0,"",ROUND(SUMIFS(INDEX('B-PorHerramienta'!$F$2:$I$2848,0,$AH$6),'B-PorHerramienta'!$A$2:$A$2848,C$8,'B-PorHerramienta'!$J$2:$J$2848,$AC18,'B-PorHerramienta'!$K$2:$K$2848,$AD18,'B-PorHerramienta'!$L$2:$L$2848,$AE18)*$AI$6,$AJ$6)) | D18: =IF(COUNTIFS('B-PorHerramienta'!$A$2:$A$2848,D$8,'B-PorHerramienta'!$J$2:$J$2848,$AC18,'B-PorHerramienta'!$K$2:$K$2848,$AD18,'B-PorHerramienta'!$L$2:$L$2848,$AE18,'B-PorHerramienta'!$F$2:$F$2848,"<>")=0,"",ROUND(SUMIFS(INDEX('B-PorHerramienta'!$F$2:$I$2848,0,$AH$6),'B-PorHerramienta'!$A$2:$A$2848,D$8,'B-PorHerramienta'!$J$2:$J$2848,$AC18,'B-PorHerramienta'!$K$2:$K$2848,$AD18,'B-PorHerramienta'!$L$2:$L$2848,$AE18)*$AI$6,$AJ$6)) | E18: =IF(COUNTIFS('B-PorHerramienta'!$A$2:$A$2848,E$8,'B-PorHerramienta'!$J$2:$J$2848,$AC18,'B-PorHerramienta'!$K$2:$K$2848,$AD18,'B-PorHerramienta'!$L$2:$L$2848,$AE18,'B-PorHerramienta'!$F$2:$F$2848,"<>")=0,"",ROUND(SUMIFS(INDEX('B-PorHerramienta'!$F$2:$I$2848,0,$AH$6),'B-PorHerramienta'!$A$2:$A$2848,E$8,'B-PorHerramienta'!$J$2:$J$2848,$AC18,'B-PorHerramienta'!$K$2:$K$2848,$AD18,'B-PorHerramienta'!$L$2:$L$2848,$AE18)*$AI$6,$AJ$6)) | F18: =IF(COUNTIFS('B-PorHerramienta'!$A$2:$A$2848,F$8,'B-PorHerramienta'!$J$2:$J$2848,$AC18,'B-PorHerramienta'!$K$2:$K$2848,$AD18,'B-PorHerramienta'!$L$2:$L$2848,$AE18,'B-PorHerramienta'!$F$2:$F$2848,"<>")=0,"",ROUND(SUMIFS(INDEX('B-PorHerramienta'!$F$2:$I$2848,0,$AH$6),'B-PorHerramienta'!$A$2:$A$2848,F$8,'B-PorHerramienta'!$J$2:$J$2848,$AC18,'B-PorHerramienta'!$K$2:$K$2848,$AD18,'B-PorHerramienta'!$L$2:$L$2848,$AE18)*$AI$6,$AJ$6)) | G18: =IF(COUNTIFS('B-PorHerramienta'!$A$2:$A$2848,G$8,'B-PorHerramienta'!$J$2:$J$2848,$AC18,'B-PorHerramienta'!$K$2:$K$2848,$AD18,'B-PorHerramienta'!$L$2:$L$2848,$AE18,'B-PorHerramienta'!$F$2:$F$2848,"<>")=0,"",ROUND(SUMIFS(INDEX('B-PorHerramienta'!$F$2:$I$2848,0,$AH$6),'B-PorHerramienta'!$A$2:$A$2848,G$8,'B-PorHerramienta'!$J$2:$J$2848,$AC18,'B-PorHerramienta'!$K$2:$K$2848,$AD18,'B-PorHerramienta'!$L$2:$L$2848,$AE18)*$AI$6,$AJ$6)) | H18: =IF(COUNTIFS('B-PorHerramienta'!$A$2:$A$2848,H$8,'B-PorHerramienta'!$J$2:$J$2848,$AC18,'B-PorHerramienta'!$K$2:$K$2848,$AD18,'B-PorHerramienta'!$L$2:$L$2848,$AE18,'B-PorHerramienta'!$F$2:$F$2848,"<>")=0,"",ROUND(SUMIFS(INDEX('B-PorHerramienta'!$F$2:$I$2848,0,$AH$6),'B-PorHerramienta'!$A$2:$A$2848,H$8,'B-PorHerramienta'!$J$2:$J$2848,$AC18,'B-PorHerramienta'!$K$2:$K$2848,$AD18,'B-PorHerramienta'!$L$2:$L$2848,$AE18)*$AI$6,$AJ$6)) | I18: =IF(COUNTIFS('B-PorHerramienta'!$A$2:$A$2848,I$8,'B-PorHerramienta'!$J$2:$J$2848,$AC18,'B-PorHerramienta'!$K$2:$K$2848,$AD18,'B-PorHerramienta'!$L$2:$L$2848,$AE18,'B-PorHerramienta'!$F$2:$F$2848,"<>")=0,"",ROUND(SUMIFS(INDEX('B-PorHerramienta'!$F$2:$I$2848,0,$AH$6),'B-PorHerramienta'!$A$2:$A$2848,I$8,'B-PorHerramienta'!$J$2:$J$2848,$AC18,'B-PorHerramienta'!$K$2:$K$2848,$AD18,'B-PorHerramienta'!$L$2:$L$2848,$AE18)*$AI$6,$AJ$6)) | J18: =IF(COUNTIFS('B-PorHerramienta'!$A$2:$A$2848,J$8,'B-PorHerramienta'!$J$2:$J$2848,$AC18,'B-PorHerramienta'!$K$2:$K$2848,$AD18,'B-PorHerramienta'!$L$2:$L$2848,$AE18,'B-PorHerramienta'!$F$2:$F$2848,"<>")=0,"",ROUND(SUMIFS(INDEX('B-PorHerramienta'!$F$2:$I$2848,0,$AH$6),'B-PorHerramienta'!$A$2:$A$2848,J$8,'B-PorHerramienta'!$J$2:$J$2848,$AC18,'B-PorHerramienta'!$K$2:$K$2848,$AD18,'B-PorHerramienta'!$L$2:$L$2848,$AE18)*$AI$6,$AJ$6)) | ... Z18: =IF(COUNTIFS('B-PorHerramienta'!$A$2:$A$2848,Z$8,'B-PorHerramienta'!$J$2:$J$2848,$AC18,'B-PorHerramienta'!$K$2:$K$2848,$AD18,'B-PorHerramienta'!$L$2:$L$2848,$AE18,'B-PorHerramienta'!$F$2:$F$2848,"<>")=0,"",ROUND(SUMIFS(INDEX('B-PorHerramienta'!$F$2:$I$2848,0,$AH$6),'B-PorHerramienta'!$A$2:$A$2848,Z$8,'B-PorHerramienta'!$J$2:$J$2848,$AC18,'B-PorHerramienta'!$K$2:$K$2848,$AD18,'B-PorHerramienta'!$L$2:$L$2848,$AE18)*$AI$6,$AJ$6)) | AB18: 2 | AC18: Estímulos fiscales | AD18: Decretos presidenciales | AE18: R0429
A19: Exención del Pago del ISR a las Personas Físicas Afectadas por el Sismo del 19 de Septiembre de 2017 que Obtengan Ingresos por la Enajenación de Terrenos con Valor de hasta 700 Mil UDIS | B19: EF.DP.14 | C19: =IF(COUNTIFS('B-PorHerramienta'!$A$2:$A$2848,C$8,'B-PorHerramienta'!$J$2:$J$2848,$AC19,'B-PorHerramienta'!$K$2:$K$2848,$AD19,'B-PorHerramienta'!$L$2:$L$2848,$AE19,'B-PorHerramienta'!$F$2:$F$2848,"<>")=0,"",ROUND(SUMIFS(INDEX('B-PorHerramienta'!$F$2:$I$2848,0,$AH$6),'B-PorHerramienta'!$A$2:$A$2848,C$8,'B-PorHerramienta'!$J$2:$J$2848,$AC19,'B-PorHerramienta'!$K$2:$K$2848,$AD19,'B-PorHerramienta'!$L$2:$L$2848,$AE19)*$AI$6,$AJ$6)) | D19: =IF(COUNTIFS('B-PorHerramienta'!$A$2:$A$2848,D$8,'B-PorHerramienta'!$J$2:$J$2848,$AC19,'B-PorHerramienta'!$K$2:$K$2848,$AD19,'B-PorHerramienta'!$L$2:$L$2848,$AE19,'B-PorHerramienta'!$F$2:$F$2848,"<>")=0,"",ROUND(SUMIFS(INDEX('B-PorHerramienta'!$F$2:$I$2848,0,$AH$6),'B-PorHerramienta'!$A$2:$A$2848,D$8,'B-PorHerramienta'!$J$2:$J$2848,$AC19,'B-PorHerramienta'!$K$2:$K$2848,$AD19,'B-PorHerramienta'!$L$2:$L$2848,$AE19)*$AI$6,$AJ$6)) | E19: =IF(COUNTIFS('B-PorHerramienta'!$A$2:$A$2848,E$8,'B-PorHerramienta'!$J$2:$J$2848,$AC19,'B-PorHerramienta'!$K$2:$K$2848,$AD19,'B-PorHerramienta'!$L$2:$L$2848,$AE19,'B-PorHerramienta'!$F$2:$F$2848,"<>")=0,"",ROUND(SUMIFS(INDEX('B-PorHerramienta'!$F$2:$I$2848,0,$AH$6),'B-PorHerramienta'!$A$2:$A$2848,E$8,'B-PorHerramienta'!$J$2:$J$2848,$AC19,'B-PorHerramienta'!$K$2:$K$2848,$AD19,'B-PorHerramienta'!$L$2:$L$2848,$AE19)*$AI$6,$AJ$6)) | F19: =IF(COUNTIFS('B-PorHerramienta'!$A$2:$A$2848,F$8,'B-PorHerramienta'!$J$2:$J$2848,$AC19,'B-PorHerramienta'!$K$2:$K$2848,$AD19,'B-PorHerramienta'!$L$2:$L$2848,$AE19,'B-PorHerramienta'!$F$2:$F$2848,"<>")=0,"",ROUND(SUMIFS(INDEX('B-PorHerramienta'!$F$2:$I$2848,0,$AH$6),'B-PorHerramienta'!$A$2:$A$2848,F$8,'B-PorHerramienta'!$J$2:$J$2848,$AC19,'B-PorHerramienta'!$K$2:$K$2848,$AD19,'B-PorHerramienta'!$L$2:$L$2848,$AE19)*$AI$6,$AJ$6)) | G19: =IF(COUNTIFS('B-PorHerramienta'!$A$2:$A$2848,G$8,'B-PorHerramienta'!$J$2:$J$2848,$AC19,'B-PorHerramienta'!$K$2:$K$2848,$AD19,'B-PorHerramienta'!$L$2:$L$2848,$AE19,'B-PorHerramienta'!$F$2:$F$2848,"<>")=0,"",ROUND(SUMIFS(INDEX('B-PorHerramienta'!$F$2:$I$2848,0,$AH$6),'B-PorHerramienta'!$A$2:$A$2848,G$8,'B-PorHerramienta'!$J$2:$J$2848,$AC19,'B-PorHerramienta'!$K$2:$K$2848,$AD19,'B-PorHerramienta'!$L$2:$L$2848,$AE19)*$AI$6,$AJ$6)) | H19: =IF(COUNTIFS('B-PorHerramienta'!$A$2:$A$2848,H$8,'B-PorHerramienta'!$J$2:$J$2848,$AC19,'B-PorHerramienta'!$K$2:$K$2848,$AD19,'B-PorHerramienta'!$L$2:$L$2848,$AE19,'B-PorHerramienta'!$F$2:$F$2848,"<>")=0,"",ROUND(SUMIFS(INDEX('B-PorHerramienta'!$F$2:$I$2848,0,$AH$6),'B-PorHerramienta'!$A$2:$A$2848,H$8,'B-PorHerramienta'!$J$2:$J$2848,$AC19,'B-PorHerramienta'!$K$2:$K$2848,$AD19,'B-PorHerramienta'!$L$2:$L$2848,$AE19)*$AI$6,$AJ$6)) | I19: =IF(COUNTIFS('B-PorHerramienta'!$A$2:$A$2848,I$8,'B-PorHerramienta'!$J$2:$J$2848,$AC19,'B-PorHerramienta'!$K$2:$K$2848,$AD19,'B-PorHerramienta'!$L$2:$L$2848,$AE19,'B-PorHerramienta'!$F$2:$F$2848,"<>")=0,"",ROUND(SUMIFS(INDEX('B-PorHerramienta'!$F$2:$I$2848,0,$AH$6),'B-PorHerramienta'!$A$2:$A$2848,I$8,'B-PorHerramienta'!$J$2:$J$2848,$AC19,'B-PorHerramienta'!$K$2:$K$2848,$AD19,'B-PorHerramienta'!$L$2:$L$2848,$AE19)*$AI$6,$AJ$6)) | J19: =IF(COUNTIFS('B-PorHerramienta'!$A$2:$A$2848,J$8,'B-PorHerramienta'!$J$2:$J$2848,$AC19,'B-PorHerramienta'!$K$2:$K$2848,$AD19,'B-PorHerramienta'!$L$2:$L$2848,$AE19,'B-PorHerramienta'!$F$2:$F$2848,"<>")=0,"",ROUND(SUMIFS(INDEX('B-PorHerramienta'!$F$2:$I$2848,0,$AH$6),'B-PorHerramienta'!$A$2:$A$2848,J$8,'B-PorHerramienta'!$J$2:$J$2848,$AC19,'B-PorHerramienta'!$K$2:$K$2848,$AD19,'B-PorHerramienta'!$L$2:$L$2848,$AE19)*$AI$6,$AJ$6)) | ... Z19: =IF(COUNTIFS('B-PorHerramienta'!$A$2:$A$2848,Z$8,'B-PorHerramienta'!$J$2:$J$2848,$AC19,'B-PorHerramienta'!$K$2:$K$2848,$AD19,'B-PorHerramienta'!$L$2:$L$2848,$AE19,'B-PorHerramienta'!$F$2:$F$2848,"<>")=0,"",ROUND(SUMIFS(INDEX('B-PorHerramienta'!$F$2:$I$2848,0,$AH$6),'B-PorHerramienta'!$A$2:$A$2848,Z$8,'B-PorHerramienta'!$J$2:$J$2848,$AC19,'B-PorHerramienta'!$K$2:$K$2848,$AD19,'B-PorHerramienta'!$L$2:$L$2848,$AE19)*$AI$6,$AJ$6)) -> 0.0001 | AB19: 2 | AC19: Estímulos fiscales | AD19: Decretos presidenciales | AE19: R0430
A20: Exención del Pago del ISR a las Personas Físicas Afectadas por los Sismos de Septiembre de 2017 por los Ingresos Acumulables Relativos a la Condonación de la Deuda por la Pérdida Total de su Casa Habitación | B20: EF.DP.15 | C20: =IF(COUNTIFS('B-PorHerramienta'!$A$2:$A$2848,C$8,'B-PorHerramienta'!$J$2:$J$2848,$AC20,'B-PorHerramienta'!$K$2:$K$2848,$AD20,'B-PorHerramienta'!$L$2:$L$2848,$AE20,'B-PorHerramienta'!$F$2:$F$2848,"<>")=0,"",ROUND(SUMIFS(INDEX('B-PorHerramienta'!$F$2:$I$2848,0,$AH$6),'B-PorHerramienta'!$A$2:$A$2848,C$8,'B-PorHerramienta'!$J$2:$J$2848,$AC20,'B-PorHerramienta'!$K$2:$K$2848,$AD20,'B-PorHerramienta'!$L$2:$L$2848,$AE20)*$AI$6,$AJ$6)) | D20: =IF(COUNTIFS('B-PorHerramienta'!$A$2:$A$2848,D$8,'B-PorHerramienta'!$J$2:$J$2848,$AC20,'B-PorHerramienta'!$K$2:$K$2848,$AD20,'B-PorHerramienta'!$L$2:$L$2848,$AE20,'B-PorHerramienta'!$F$2:$F$2848,"<>")=0,"",ROUND(SUMIFS(INDEX('B-PorHerramienta'!$F$2:$I$2848,0,$AH$6),'B-PorHerramienta'!$A$2:$A$2848,D$8,'B-PorHerramienta'!$J$2:$J$2848,$AC20,'B-PorHerramienta'!$K$2:$K$2848,$AD20,'B-PorHerramienta'!$L$2:$L$2848,$AE20)*$AI$6,$AJ$6)) | E20: =IF(COUNTIFS('B-PorHerramienta'!$A$2:$A$2848,E$8,'B-PorHerramienta'!$J$2:$J$2848,$AC20,'B-PorHerramienta'!$K$2:$K$2848,$AD20,'B-PorHerramienta'!$L$2:$L$2848,$AE20,'B-PorHerramienta'!$F$2:$F$2848,"<>")=0,"",ROUND(SUMIFS(INDEX('B-PorHerramienta'!$F$2:$I$2848,0,$AH$6),'B-PorHerramienta'!$A$2:$A$2848,E$8,'B-PorHerramienta'!$J$2:$J$2848,$AC20,'B-PorHerramienta'!$K$2:$K$2848,$AD20,'B-PorHerramienta'!$L$2:$L$2848,$AE20)*$AI$6,$AJ$6)) | F20: =IF(COUNTIFS('B-PorHerramienta'!$A$2:$A$2848,F$8,'B-PorHerramienta'!$J$2:$J$2848,$AC20,'B-PorHerramienta'!$K$2:$K$2848,$AD20,'B-PorHerramienta'!$L$2:$L$2848,$AE20,'B-PorHerramienta'!$F$2:$F$2848,"<>")=0,"",ROUND(SUMIFS(INDEX('B-PorHerramienta'!$F$2:$I$2848,0,$AH$6),'B-PorHerramienta'!$A$2:$A$2848,F$8,'B-PorHerramienta'!$J$2:$J$2848,$AC20,'B-PorHerramienta'!$K$2:$K$2848,$AD20,'B-PorHerramienta'!$L$2:$L$2848,$AE20)*$AI$6,$AJ$6)) | G20: =IF(COUNTIFS('B-PorHerramienta'!$A$2:$A$2848,G$8,'B-PorHerramienta'!$J$2:$J$2848,$AC20,'B-PorHerramienta'!$K$2:$K$2848,$AD20,'B-PorHerramienta'!$L$2:$L$2848,$AE20,'B-PorHerramienta'!$F$2:$F$2848,"<>")=0,"",ROUND(SUMIFS(INDEX('B-PorHerramienta'!$F$2:$I$2848,0,$AH$6),'B-PorHerramienta'!$A$2:$A$2848,G$8,'B-PorHerramienta'!$J$2:$J$2848,$AC20,'B-PorHerramienta'!$K$2:$K$2848,$AD20,'B-PorHerramienta'!$L$2:$L$2848,$AE20)*$AI$6,$AJ$6)) | H20: =IF(COUNTIFS('B-PorHerramienta'!$A$2:$A$2848,H$8,'B-PorHerramienta'!$J$2:$J$2848,$AC20,'B-PorHerramienta'!$K$2:$K$2848,$AD20,'B-PorHerramienta'!$L$2:$L$2848,$AE20,'B-PorHerramienta'!$F$2:$F$2848,"<>")=0,"",ROUND(SUMIFS(INDEX('B-PorHerramienta'!$F$2:$I$2848,0,$AH$6),'B-PorHerramienta'!$A$2:$A$2848,H$8,'B-PorHerramienta'!$J$2:$J$2848,$AC20,'B-PorHerramienta'!$K$2:$K$2848,$AD20,'B-PorHerramienta'!$L$2:$L$2848,$AE20)*$AI$6,$AJ$6)) | I20: =IF(COUNTIFS('B-PorHerramienta'!$A$2:$A$2848,I$8,'B-PorHerramienta'!$J$2:$J$2848,$AC20,'B-PorHerramienta'!$K$2:$K$2848,$AD20,'B-PorHerramienta'!$L$2:$L$2848,$AE20,'B-PorHerramienta'!$F$2:$F$2848,"<>")=0,"",ROUND(SUMIFS(INDEX('B-PorHerramienta'!$F$2:$I$2848,0,$AH$6),'B-PorHerramienta'!$A$2:$A$2848,I$8,'B-PorHerramienta'!$J$2:$J$2848,$AC20,'B-PorHerramienta'!$K$2:$K$2848,$AD20,'B-PorHerramienta'!$L$2:$L$2848,$AE20)*$AI$6,$AJ$6)) | J20: =IF(COUNTIFS('B-PorHerramienta'!$A$2:$A$2848,J$8,'B-PorHerramienta'!$J$2:$J$2848,$AC20,'B-PorHerramienta'!$K$2:$K$2848,$AD20,'B-PorHerramienta'!$L$2:$L$2848,$AE20,'B-PorHerramienta'!$F$2:$F$2848,"<>")=0,"",ROUND(SUMIFS(INDEX('B-PorHerramienta'!$F$2:$I$2848,0,$AH$6),'B-PorHerramienta'!$A$2:$A$2848,J$8,'B-PorHerramienta'!$J$2:$J$2848,$AC20,'B-PorHerramienta'!$K$2:$K$2848,$AD20,'B-PorHerramienta'!$L$2:$L$2848,$AE20)*$AI$6,$AJ$6)) | ... Z20: =IF(COUNTIFS('B-PorHerramienta'!$A$2:$A$2848,Z$8,'B-PorHerramienta'!$J$2:$J$2848,$AC20,'B-PorHerramienta'!$K$2:$K$2848,$AD20,'B-PorHerramienta'!$L$2:$L$2848,$AE20,'B-PorHerramienta'!$F$2:$F$2848,"<>")=0,"",ROUND(SUMIFS(INDEX('B-PorHerramienta'!$F$2:$I$2848,0,$AH$6),'B-PorHerramienta'!$A$2:$A$2848,Z$8,'B-PorHerramienta'!$J$2:$J$2848,$AC20,'B-PorHerramienta'!$K$2:$K$2848,$AD20,'B-PorHerramienta'!$L$2:$L$2848,$AE20)*$AI$6,$AJ$6)) -> 0 | AB20: 2 | AC20: Estímulos fiscales | AD20: Decretos presidenciales | AE20: R0431
